BEGIN:VCALENDAR
VERSION:2.0
PRODID:-//hacksw/handcal//NONSGML v1.0//EN
BEGIN:VEVENT
DTSTART:20151120T090000
DTEND:20151120T120000
LOCATION:IEMN-IAE Batiment ERDRE \nChemin de la Censive du Tertre \n44300 NANTES
ORGANIZER;CN=IEMN-IAE Alumni:MAILTO:alumni.iaenantes@univ-nantes.fr
SUMMARY:Comment évaluer la performance RSE des entreprises et des organisations  ?
DESCRIPTION:Conférence organisée par le LEMNA et le Réseau des 26 000 de l’Ouest\nLe Laboratoire d’Economie et de Management de l’Université de Nantes (LEMNA) et les 26000 de l’Ouest (Association de consultants...
URL:https://www.iaenantes-alumni.fr/fr/event/comment-evaluer-la-performance-rse-des-entreprises-et-des-organisations/2015/11/20/81
BEGIN:VALARM
TRIGGER:-P0DT1H0M0S
ACTION:DISPLAY
END:VALARM
END:VEVENT
END:VCALENDAR