BEGIN:VCALENDAR
VERSION:2.0
PRODID:-//hacksw/handcal//NONSGML v1.0//EN
BEGIN:VEVENT
DTSTART:20160311T160000
DTEND:20160311T200000
LOCATION:Nantes
ORGANIZER;CN=IEMN-IAE Alumni:MAILTO:alumni.iaenantes@univ-nantes.fr
SUMMARY:Cérémonie de remise des diplômes et Soirée des Alumni !
DESCRIPTION:Modalité de paiement pour la soirée des Alumni \nLa plateforme ne peut pour le moment accueillir de paiement en ligne et nous vous prions de nous en excuser.\nCependant, pour ceux qui le souhaitent,...
URL:https://www.iaenantes-alumni.fr/fr/event/ceremonie-de-remise-des-diplomes-et-soiree-des-alumni/2016/03/11/65
BEGIN:VALARM
TRIGGER:-P0DT1H0M0S
ACTION:DISPLAY
END:VALARM
END:VEVENT
END:VCALENDAR