BEGIN:VCALENDAR
VERSION:2.0
PRODID:-//hacksw/handcal//NONSGML v1.0//EN
BEGIN:VEVENT
DTSTART:20181127T183000
DTEND:20181127T233000
LOCATION:Pôle Étudiant \nChemin de la Censive du Tertre \n44312 NANTES Cedex 3
ORGANIZER;CN=IAE Nantes ALUMNI:MAILTO:alumni.iaenantes@univ-nantes.fr
SUMMARY:Soirée d'ouverture 60 ans IAE Nantes : L'IAE Nantes fait son show !
DESCRIPTION:Le 27 novembre 2018 à 18h30, venez fêter les 60 ans de l'IAE Nantes "60 ans de talents" avec la soirée d'ouverture "L'IAE NANTES FAIT SON SHOW".Une soirée co-organisée avec le BDE IAE Nantes et en...
URL:https://www.iaenantes-alumni.fr/fr/event/soiree-d-ouverture-60-ans-iae-nantes-l-iae-nantes-fait-son-show/2018/11/27/251
BEGIN:VALARM
TRIGGER:-P0DT1H0M0S
ACTION:DISPLAY
END:VALARM
END:VEVENT
END:VCALENDAR