BEGIN:VCALENDAR
VERSION:2.0
PRODID:-//hacksw/handcal//NONSGML v1.0//EN
BEGIN:VEVENT
DTSTART:20161129T180000
DTEND:20161129T210000
LOCATION:IEMN-IAE BATIMENT ERDRE \nChemin de la Censive du Tertre \n44300 NANTES
ORGANIZER;CN=IEMN-IAE Alumni - Club Gestion Finance:MAILTO:alumni.iaenantes@univ-nantes.fr
SUMMARY:Table ronde sur les métiers de la comptabilité et du contrôle de gestion
DESCRIPTION:Le Club Finance Gestion ALTEO de l'IEMN-IAE organise une table ronde le 29 novembre à 18h00.\nLieu : Amphi Graslin\nLes Thématiques Abordées : \nPremière Partie :  \nLes Perspective d’Emploi dans les ...
URL:https://www.iaenantes-alumni.fr/fr/group/club-gestion-finance/49/calendar/table-ronde-sur-les-metiers-de-la-comptabilite-et-du-controle-de-gestion/2016/11/29/185
BEGIN:VALARM
TRIGGER:-P0DT1H0M0S
ACTION:DISPLAY
END:VALARM
END:VEVENT
END:VCALENDAR