BEGIN:VCALENDAR
VERSION:2.0
PRODID:-//hacksw/handcal//NONSGML v1.0//EN
BEGIN:VEVENT
DTSTART:20160629T193000
DTEND:20160629T220000
LOCATION:Bistro marguerite \n1, Place de l'Hôtel de Ville \n75004 PARIS-4E-ARRONDISSEMENT
ORGANIZER;CN=IEMN-IAE Alumni:MAILTO:alumni.iaenantes@univ-nantes.fr
SUMMARY:Afterwork des diplômés de l'IEMN-IAE à Paris
DESCRIPTION:\nDéveloppons le réseau des diplômés\nVous êtes plus de 100 diplômés sur la capitale en poste dans des domaines d'activités très variés (SSII, banque, finance, innovation, communication, marketing,...
URL:https://www.iaenantes-alumni.fr/fr/event/afterwork-des-diplomes-de-l-iemn-iae-a-paris/2016/06/29/165
BEGIN:VALARM
TRIGGER:-P0DT1H0M0S
ACTION:DISPLAY
END:VALARM
END:VEVENT
END:VCALENDAR